BEGIN:VCALENDAR
VERSION:2.0
PRODID:-//wp-events-plugin.com//7.2.3.1//EN
TZID:America/Vancouver
X-WR-TIMEZONE:America/Vancouver
BEGIN:VEVENT
UID:22@deltaphotoclub.com
DTSTART;TZID=America/Vancouver:20190327T191500
DTEND;TZID=America/Vancouver:20190327T213000
DTSTAMP:20190305T021900Z
URL:https://deltaphotoclub.com/events/workshop-8/
SUMMARY:Marion McCristall - Travel Photography with Heart
DESCRIPTION:On March 27\, Marion McCristall will speak about Travel Photogr
 aphy with Heart.\n\nShe is an award-winning photographer who has recently 
 spent three years living in Europe and now divides her time between Canada
  and Portugal.  SHe has travelled to 41 countries with her camera in hand
  and will offer tips on how to take your travel photography to the next le
 vel.  Marion and her colleague\, Fernando Pkarra\, offer photography tour
 s and workshops in Portugal.  They also have two upcoming ones with Rick 
 Hubert in Vancouver in May and Portugal in October.\n\nGuests welcome\, $1
 0 by donation at the door.\n\nhttps://marionmccristall.com\n\nhttps://www.
 pictoursportugal.com\n\n
CATEGORIES:Workshops
END:VEVENT
BEGIN:VTIMEZONE
TZID:America/Vancouver
X-LIC-LOCATION:America/Vancouver
BEGIN:DAYLIGHT
DTSTART:20190310T030000
TZOFFSETFROM:-0800
TZOFFSETTO:-0700
TZNAME:PDT
END:DAYLIGHT
END:VTIMEZONE
END:VCALENDAR