BEGIN:VCALENDAR
VERSION:2.0
PRODID:-//wp-events-plugin.com//7.2.3.1//EN
TZID:America/Vancouver
X-WR-TIMEZONE:America/Vancouver
BEGIN:VEVENT
UID:21@deltaphotoclub.com
DTSTART;TZID=America/Vancouver:20190306T191500
DTEND;TZID=America/Vancouver:20190306T213000
DTSTAMP:20190221T172202Z
URL:https://deltaphotoclub.com/events/workshop-7/
SUMMARY:David Friederich - Bird Photography
DESCRIPTION:\nDavid Friederich\, a self-described amateur nature photograph
 er who likes to make pictures of birds\, will present a workshop at the De
 lta Photo Club Meeting from 7:30 - 9:30 pm on March 6th at KinVillage Comm
 unity Centre in Tsawwassen. \nFriederich\, a DPC member\,  has been phot
 ographing birds for many years\, and has been recognized for his work with
  numerous awards. His workshop is aimed at those who would like to take ph
 otos of birds\, but don’t know how to get started\, and those who alread
 y “shoot birds” but could use a boost in their skills and enthusiasm. 
 Accomplished bird photographers are welcome to share their experience and 
 input. The workshop will feature genres of bird photography\, such as bird
 s in flight\, birds looking pretty on a stick\, birds mating\, birds nesti
 ng and feeding their young\, birds fighting\, and give an overview of bird
  photography in BC’s lower mainland. \nA digital handout will be provid
 ed that gives best places to shoot birds in BC lower mainland\, resources 
 for the bird photographer\, including how and where to show their work.  
 As more and more interest in bird photography actually threatens the birds
  we love\, a discussion of the ethics of bird photography will be another 
 topic of conversation.  \nGuests welcome\, $10 by donation at the door. 
 \n\n\nKaroline Cullen
ATTACH;FMTTYPE=image/jpeg:https://deltaphotoclub.com/wp-content/uploads/Wo
 rkshop_Images/20190115-_DHF5220.jpg
CATEGORIES:Workshops
END:VEVENT
BEGIN:VTIMEZONE
TZID:America/Vancouver
X-LIC-LOCATION:America/Vancouver
BEGIN:STANDARD
DTSTART:20181104T010000
TZOFFSETFROM:-0700
TZOFFSETTO:-0800
TZNAME:PST
END:STANDARD
END:VTIMEZONE
END:VCALENDAR