BEGIN:VCALENDAR
VERSION:2.0
PRODID:-//wp-events-plugin.com//7.2.3.1//EN
TZID:America/Vancouver
X-WR-TIMEZONE:America/Vancouver
BEGIN:VEVENT
UID:20@deltaphotoclub.com
DTSTART;TZID=America/Vancouver:20190206T191500
DTEND;TZID=America/Vancouver:20190206T213000
DTSTAMP:20190128T181912Z
URL:https://deltaphotoclub.com/events/workshop-6/
SUMMARY:Imaging with Intention: The 8 inches BEHIND the Viewfinder
DESCRIPTION:The Delta Photo Club is pleased to present another workshop by 
 Jay Gough on Wednesday\, February 6 from 7:15 – 9:30 pm at the KinVillag
 e Community Centre in Tsawwassen.\n\nDuring this informal evening session\
 , Jay will take you through a series of images from different genres to di
 scuss intention. When we’re about to make an exposure there are countles
 s different decisions the camera operator must make. From composition\, to
  aperture and shutter speed\, to camera and lens selection…the technical
  aspects of the craft must be covered. But what about the reasons WHY thes
 e decisions were made? What was the intent? What are we trying to portray 
 when we make an image\; be it of a person or a place? Take a deep dive in 
 the mind of an image creator as we talk about the decisions that went into
  making each image. Ask lots of questions\, gear related or otherwise\, Ja
 y is ready to answer them all.\n\n&nbsp\;\n\nJay Gough is the BC Territory
  Manager for Sales and Nikon Professional Services for Nikon Canada. A dev
 out Nikonian since he was 7 years old\, Jay has spent the last 35 years ph
 otographing the world around him.\n\n&nbsp\;\n\nGuests welcome. www.deltap
 hotoclub.com
ATTACH;FMTTYPE=image/jpeg:https://deltaphotoclub.com/wp-content/uploads/Wo
 rkshop_Images/2019-jay-gough-headshot.jpg
CATEGORIES:Workshops
END:VEVENT
BEGIN:VTIMEZONE
TZID:America/Vancouver
X-LIC-LOCATION:America/Vancouver
BEGIN:STANDARD
DTSTART:20181104T010000
TZOFFSETFROM:-0700
TZOFFSETTO:-0800
TZNAME:PST
END:STANDARD
END:VTIMEZONE
END:VCALENDAR