BEGIN:VCALENDAR
VERSION:2.0
PRODID:-//wp-events-plugin.com//7.2.3.1//EN
TZID:America/Vancouver
X-WR-TIMEZONE:America/Vancouver
BEGIN:VEVENT
UID:19@deltaphotoclub.com
DTSTART;TZID=America/Vancouver:20190102T191500
DTEND;TZID=America/Vancouver:20190102T213000
DTSTAMP:20181114T210222Z
URL:https://deltaphotoclub.com/events/workshop-5/
SUMMARY:Frank Pali - Tips for Award Winning Shots
DESCRIPTION:The Delta Photo Club is pleased to present “Tips to Win Over 
 Photography Judges” by acclaimed photographer/instructor Frank Pali at 7
 :15 - 9:30 pm\, Wednesday\, January 2 at the Kin Village Recreation Centre
  in Tsawwassen. \n\nFrank’s talk is about taking photos from ho hum to 
 wow. He will give tips to improve your images: rule of thirds\, compositio
 n\, sharpness\, story telling and how to improve photos.\n\nHe is a profes
 sional photographer who has won awards for his wildlife and landscape imag
 es. His extensive collections of stock photography are represented by comp
 anies such as Getty Images\, All Canada Photos and Alamy. Frank’s photos
  have been featured in books and magazines worldwide. He is a CAPA certifi
 ed judge and  is known for his friendly manner and gentle suggestions for
  improvement. \n \nFrank conducts workshops for clubs\, small groups or 
 individuals. He loves helping budding photographers in the field and will 
 accompany individuals and groups to local photo spots. Following a recent 
 trip to the jungles of Costa Rica\, Frank was inspired to share his experi
 ences with photographers and has partnered with an Eco Resort to conduct a
  series of workshops for 2018 and 2019.  \n\nhttps://frankpaliphotography
 .com\n\nGuests welcome\, $10 by donation at the door.\n\nwww.deltaphotoclu
 b.com
CATEGORIES:Workshops
LOCATION:Kin Village\, 5410 10th Ave\, Delta\, Canada
GEO:49.021519;-123.073647
X-APPLE-STRUCTURED-LOCATION;VALUE=URI;X-ADDRESS=5410 10th Ave\, Delta\, Can
 ada;X-APPLE-RADIUS=100;X-TITLE=Kin Village:geo:49.021519,-123.073647
END:VEVENT
BEGIN:VTIMEZONE
TZID:America/Vancouver
X-LIC-LOCATION:America/Vancouver
BEGIN:STANDARD
DTSTART:20181104T010000
TZOFFSETFROM:-0700
TZOFFSETTO:-0800
TZNAME:PST
END:STANDARD
END:VTIMEZONE
END:VCALENDAR