BEGIN:VCALENDAR
VERSION:2.0
PRODID:-//wp-events-plugin.com//7.2.3.1//EN
TZID:America/Vancouver
X-WR-TIMEZONE:America/Vancouver
BEGIN:VEVENT
UID:18@deltaphotoclub.com
DTSTART;TZID=America/Vancouver:20181205T191500
DTEND;TZID=America/Vancouver:20181205T213000
DTSTAMP:20181113T221701Z
URL:https://deltaphotoclub.com/events/workshop-4/
SUMMARY:Francois Cleroux - B&W Photography
DESCRIPTION:The Delta Photo Club is pleased to present “A Closer Look at 
 B&amp\;W Photography” by acclaimed photographer/instructor and DPC membe
 r Francois Cleroux at 7:15 - 9:30 pm\, Wednesday\, December 5 at the Kin V
 illage Recreation Centre in Tsawwassen. \nFrancois says\, " I have loved 
 Black and White Photography since I first laid eyes on Toni Frissell’s i
 ncredible image “Weeki Wachee Springs” as a young man. The image has a
  sense of gravity\, timelessness and an inherent elasticity that allows a 
 believable stretching of reality. It is this image that drew me to darkroo
 m so that I could learn the art.\n Creating compelling B&amp\;W imagery u
 sed to be a lengthy drawn out process.  Precise calculations\, chemical s
 olutions\, paper choices and lots of time in the darkroom were the norm. 
  The digital age\, however\, has ushered in a multitude of methods for eff
 ortlessly creating powerful Black &amp\; White images.\nWe see and live in
  a world of color. That's how we've evolved\, and it's the world that we k
 now. Naturally\, people gravitate to color photography attracted to images
  that pop with Hawaii Five-O like vibrancy. Our affinity for color even sh
 ows up in our speech. We use the words like "colorless" to describe a thin
 g or an experience that's dull\, tedious or boring. So\, why shoot black-a
 nd-white when today's digital darkroom technology makes color management s
 o easy?\nCome to the presentation and learn why B&amp\;W Photography is ti
 meless\, beautiful\, and easy."\n\nGuests welcome\, $10 at the door by don
 ation.
CATEGORIES:Workshops
LOCATION:Kin Village\, 5410 10th Ave\, Delta\, Canada
GEO:49.021519;-123.073647
X-APPLE-STRUCTURED-LOCATION;VALUE=URI;X-ADDRESS=5410 10th Ave\, Delta\, Can
 ada;X-APPLE-RADIUS=100;X-TITLE=Kin Village:geo:49.021519,-123.073647
END:VEVENT
BEGIN:VTIMEZONE
TZID:America/Vancouver
X-LIC-LOCATION:America/Vancouver
BEGIN:STANDARD
DTSTART:20181104T010000
TZOFFSETFROM:-0700
TZOFFSETTO:-0800
TZNAME:PST
END:STANDARD
END:VTIMEZONE
END:VCALENDAR