BEGIN:VCALENDAR
VERSION:2.0
PRODID:-//wp-events-plugin.com//7.2.3.1//EN
TZID:America/Vancouver
X-WR-TIMEZONE:America/Vancouver
BEGIN:VEVENT
UID:91@deltaphotoclub.com
DTSTART;TZID=America/Vancouver:20200408T193000
DTEND;TZID=America/Vancouver:20200408T213000
DTSTAMP:20200325T212746Z
URL:https://deltaphotoclub.com/events/workshop-17/
SUMMARY:My Pic - Your Edit
DESCRIPTION:As we are all ordered to keep our physial distance to slow down
  the spread of Covid-19\, the executives decided to bring Delta Photo Club
  to you. We will be using Zoom online meeting platform hold our meetings. 
 Anyone with a computer\, tablet or smartphone will be able to join in.\n\n
 My Pic - Your Edit" - Host: Robin Bains  - This would be a fun way to wor
 k on our editing skills and. You will be able to choose from a small selec
 tion of images and edit the image to your individual styel\, test and arti
 stic flair. Then send them back to us and we will share with the rest of t
 he club.\n\nRobin
CATEGORIES:Digital,Special
END:VEVENT
BEGIN:VTIMEZONE
TZID:America/Vancouver
X-LIC-LOCATION:America/Vancouver
BEGIN:DAYLIGHT
DTSTART:20200308T030000
TZOFFSETFROM:-0800
TZOFFSETTO:-0700
TZNAME:PDT
END:DAYLIGHT
END:VTIMEZONE
END:VCALENDAR