BEGIN:VCALENDAR
VERSION:2.0
PRODID:-//wp-events-plugin.com//7.2.3.1//EN
TZID:America/Vancouver
X-WR-TIMEZONE:America/Vancouver
BEGIN:VEVENT
UID:90@deltaphotoclub.com
DTSTART;TZID=America/Vancouver:20200304T193000
DTEND;TZID=America/Vancouver:20200304T213000
DTSTAMP:20200208T181749Z
URL:https://deltaphotoclub.com/events/workshop-16/
SUMMARY:Workshop - Creative Multiple Exposure
DESCRIPTION:\nThe Delta Photo Club is pleased to welcome Dennis Ducklow on 
 Wednesday\, March  4th\, 7:15 - 9:30\, at the Kin Village Community Centr
 e for his presentation “Creativity and Multiple Exposures.”\nExtend yo
 ur creative limits by exploring the often under utilized multiple exposure
  capability of your camera. In this presentation\, Dennis will offer ideas
  and inspiration to use double exposures as well as multiple exposures to 
 create unique and expressive images.\nDennis combines his passion for phot
 ography with his teaching background to offer photography courses in Langl
 ey and Surrey as well as co-teaching creative photography workshops with C
 hris Harris\n\nwww.doubleexposure.ca\nwww.developyourcreativevision.ca/\nG
 uests welcome\, $10 at the door. www.deltaphotoclub.com\n\n\n\n--\n\n\n\n
 \n\n\nKaroline Cullen \nwww.cullenphotos.ca\n@karolinecullen\n\n\n\n\n
ATTACH;FMTTYPE=image/jpeg:https://deltaphotoclub.com/wp-content/uploads/20
 19/Workshop/selfie-through-Nikon.jpeg
CATEGORIES:Workshops
END:VEVENT
BEGIN:VTIMEZONE
TZID:America/Vancouver
X-LIC-LOCATION:America/Vancouver
BEGIN:STANDARD
DTSTART:20191103T010000
TZOFFSETFROM:-0700
TZOFFSETTO:-0800
TZNAME:PST
END:STANDARD
END:VTIMEZONE
END:VCALENDAR