BEGIN:VCALENDAR
VERSION:2.0
PRODID:-//wp-events-plugin.com//7.2.3.1//EN
TZID:America/Vancouver
X-WR-TIMEZONE:America/Vancouver
BEGIN:VEVENT
UID:88@deltaphotoclub.com
DTSTART;TZID=America/Vancouver:20200108T193000
DTEND;TZID=America/Vancouver:20200108T213000
DTSTAMP:20200104T210402Z
URL:https://deltaphotoclub.com/events/workshop-14/
SUMMARY:Workshop - Critique Night with Greg Schurman
DESCRIPTION:Members can submit 3 - 4 digital images (no guarantee we'll g
 et through them all\, so number them in order of importance to you) for Gr
 eg to critique.\n\nSizing: 1920 pixels and a maximum height of 1080 pixel
 s\, jpegs\, sRGB colour space\n\nNaming: #-image title-your name.jpeg\n\nS
 end to: critique@deltaphotoclub.com by Wednesday January 8\, high noon
 .\n\nGreg has received his Photography diploma  from the Northern Alberta
  Institute of Technology\, (NAIT). While being a member of the Professio
 nal Photographers of BC and of Canada Greg had earned his Masters of Phot
 ographic Arts\, and Fellowship of BC. He had won a record setting BC Phot
 ographer of the year for four times\, and won Canadian Commercial Photogra
 pher of the Year with PPOC. He has also won the Fuji Masterpiece awards in
  all three major categories such as Wedding\, Commercial\, and Portraiture
 . Greg ended his membership with PPOC by having the been the third most Na
 tionally Accredited Photographer in Canada.\n\nGreg's critique evenings ar
 e always edifying\, educational\, and inspiring.\n\nGuests welcome\, $10 b
 y donation at the door.\n\nSee you there!\nKaroline and Val\nWorkshops Cha
 irs\nwww.deltaphotoclub.com
ATTACH;FMTTYPE=image/jpeg:https://deltaphotoclub.com/wp-content/uploads/20
 19/Workshop/0b792ff3-30e9-40ab-b34e-16c18c14e404.jpg
CATEGORIES:Workshops
END:VEVENT
BEGIN:VTIMEZONE
TZID:America/Vancouver
X-LIC-LOCATION:America/Vancouver
BEGIN:STANDARD
DTSTART:20191103T010000
TZOFFSETFROM:-0700
TZOFFSETTO:-0800
TZNAME:PST
END:STANDARD
END:VTIMEZONE
END:VCALENDAR