BEGIN:VCALENDAR
VERSION:2.0
PRODID:-//wp-events-plugin.com//7.2.3.1//EN
TZID:America/Vancouver
X-WR-TIMEZONE:America/Vancouver
BEGIN:VEVENT
UID:87@deltaphotoclub.com
DTSTART;TZID=America/Vancouver:20191204T193000
DTEND;TZID=America/Vancouver:20191204T214500
DTSTAMP:20191114T171121Z
URL:https://deltaphotoclub.com/events/workshop-13/
SUMMARY:Francois Cleroux presents "Tripod-ology"
DESCRIPTION:\n\nThe Delta Photo Club is pleased to welcome back Francois Cl
 eroux on Wednesday\, December 4th\, 7:15 - 9:30\, at the Kin Village Commu
 nity Centre for his presentation “Tripod-ology.”\nDo you always leave 
 your tripod at home? Time to learn how to effectively use your tripod to b
 ring your photography to a new level and how to let your tripod be your in
 spiration to more creative photography.\nIn the Tripod-ology class Francoi
 s will discuss tripod hardware and how to properly use your tripod. The ba
 sics of getting ultra sharp images will also be covered along with special
  techniques to reduce or increase depth-of-field\, decrease noise in image
 s\, increasing dynamic range and increasing resolution in your images.\nCr
 eative uses for self portraits\, panoramas\, macro photography\, ICM\, low
  light\, night photography\, painting with light\, long exposure\, and tim
 e lapse photography will be examined along with other creative uses.\nTime
  permitting\, Francois will examine how the tripod can be used along with 
 post processing techniques for creative trick photography for creating ‘
 twins’\, erasing people from scenes\, gloating people\, creating ghosts 
 and other tricks.\nGuests welcome\, $10 at the door. www.deltaphotoclub.co
 m\nJean-Francois Cleroux\nInternational award-winning photographer and ins
 tructor Jean-Francois Cleroux has been doing photography since eighth grad
 e. His images have been published in magazines in Europe\, India\, and Nor
 th America\; and on the cover of Popular Photography Magazine and Photo Ma
 gazine. He has exhibited works in Canada\, the USA and India and has taugh
 t in Europe the USA.\nFrancois loves creating images from very simple mini
 malist works to very large complex installations. Although most of his art
 istic projects are personal and not shared\, he has created “tabulaRASA
 ”\, a Photographic Artists Collective\, which is helps other artists cre
 ate\, cultivate\, and refine their work and projects.\nIn recent years Jea
 n-Francois has pursued his passion for street photography. He establishedw
 ww.StreetsIHaveWalked.com to promote street photography in the Vancouver 
 area and offers a free self-paced street photography class. There is also 
 his FB Group StreetsIHaveWalked.\nFrancois has started an On-Line Photogra
 phic Artists Mentorship Program. He teaches at most clubs throughout the L
 ower Mainland as well as classes and workshops at his home\, including a t
 wo-hour Composition Class and a 2 Day Composition Workshop.  \nwww.North
 ernExposures.com  For interesting world photography and art related post
 s\, follow Francois on Facebook: Jean-Francois Cleroux\n\n\n\n\n\n\nKarol
 ine Cullen \n\n\n\n
ATTACH;FMTTYPE=image/jpeg:https://deltaphotoclub.com/wp-content/uploads/20
 19/Workshop/tripod-photo.jpg
CATEGORIES:Workshops
END:VEVENT
BEGIN:VTIMEZONE
TZID:America/Vancouver
X-LIC-LOCATION:America/Vancouver
BEGIN:STANDARD
DTSTART:20191103T010000
TZOFFSETFROM:-0700
TZOFFSETTO:-0800
TZNAME:PST
END:STANDARD
END:VTIMEZONE
END:VCALENDAR