BEGIN:VCALENDAR
VERSION:2.0
PRODID:-//wp-events-plugin.com//7.2.3.1//EN
TZID:America/Vancouver
X-WR-TIMEZONE:America/Vancouver
BEGIN:VEVENT
UID:37@deltaphotoclub.com
DTSTART;TZID=America/Vancouver:20181121T191500
DTEND;TZID=America/Vancouver:20181121T213000
DTSTAMP:20180820T164317Z
URL:https://deltaphotoclub.com/events/print-night/
SUMMARY:Print Night - "Street Photography" and "Open" Themes
DESCRIPTION:Theme will be "Street Photography".\n\nPlease bring up to three
  (3) images total in the theme or open categories. So you could bring two 
 (2) themed images and one (1) open category image or any combination total
 ing three images. Only have one image to bring? That's fine\, bring only o
 ne or two images if you like.\n\nPlease read the 'Print Night FAQ' for inf
 ormation on Sizing\, Matting and Labeling of your images.
CATEGORIES:Print
LOCATION:Kin Village\, 5410 10th Ave\, Delta\, Canada
GEO:49.021519;-123.073647
X-APPLE-STRUCTURED-LOCATION;VALUE=URI;X-ADDRESS=5410 10th Ave\, Delta\, Can
 ada;X-APPLE-RADIUS=100;X-TITLE=Kin Village:geo:49.021519,-123.073647
END:VEVENT
BEGIN:VTIMEZONE
TZID:America/Vancouver
X-LIC-LOCATION:America/Vancouver
BEGIN:STANDARD
DTSTART:20181104T010000
TZOFFSETFROM:-0700
TZOFFSETTO:-0800
TZNAME:PST
END:STANDARD
END:VTIMEZONE
END:VCALENDAR