BEGIN:VCALENDAR
VERSION:2.0
PRODID:-//wp-events-plugin.com//7.2.3.1//EN
TZID:America/Vancouver
X-WR-TIMEZONE:America/Vancouver
BEGIN:VEVENT
UID:42@deltaphotoclub.com
DTSTART;TZID=America/Vancouver:20190116T191500
DTEND;TZID=America/Vancouver:20190116T213000
DTSTAMP:20190114T194258Z
URL:https://deltaphotoclub.com/events/print-night-4/
SUMMARY:CAPA Pacific Zone Print Challenge Selection Night
DESCRIPTION:On January 16th\, the DPC will select up to 10 prints to compet
 e in the CAPA Pacific Zone Print Challenge hosted by the Dark Room Group i
 n Abbotsford.  The first half of the meeting will be dedicated to the sel
 ection of 10 images by a panel of 3 judges\, Francois Cleroux\, Val Hider\
 , and Roger Lasell.  Scores will be awarded up to 10 points by each judge
  and cumulated for a total score out of 30 points. After the selection pro
 cess is completed\, the images will be discussed with input from the maker
 s.\n\nYou may submit up to 3 images for the selection process.  If you ar
 e submitting images\, please get to the meeting early so we have ample tim
 e to record the titles and makers on the score sheets before the judging b
 egins.\n\nDetails of the Pacific Zone Challenge:\n\n\n 	Open competition.\
 n 	Monochrome or colour.\n 	Maximum size 16" by 20"\; minimum size 80 squa
 re inches.\n 	Images must be matted\, but only black or white mats are per
 mitted.\n 	Label your images on the back top right corner with the title a
 nd your name as maker.\n\n\nDavid Friederich\nBob Grand-Scrutton\nPrint Co
 mpetition Co-Ordinators\n\n
CATEGORIES:Print
END:VEVENT
BEGIN:VTIMEZONE
TZID:America/Vancouver
X-LIC-LOCATION:America/Vancouver
BEGIN:STANDARD
DTSTART:20181104T010000
TZOFFSETFROM:-0700
TZOFFSETTO:-0800
TZNAME:PST
END:STANDARD
END:VTIMEZONE
END:VCALENDAR