BEGIN:VCALENDAR
VERSION:2.0
PRODID:-//wp-events-plugin.com//7.2.3.1//EN
TZID:America/Vancouver
X-WR-TIMEZONE:America/Vancouver
BEGIN:VEVENT
UID:38@deltaphotoclub.com
DTSTART;TZID=America/Vancouver:20190320T191500
DTEND;TZID=America/Vancouver:20190320T213000
DTSTAMP:20190215T202024Z
URL:https://deltaphotoclub.com/events/print-night-2/
SUMMARY:Print Night - Crescent Beach Invitational BW
DESCRIPTION:On March 20th\, the DPC will select up to 6 prints to compete i
 n the Invitational Black and White Print Challenge hosted by the Crescent 
 Beach Photography Club.  The first part of the meeting will be dedicated 
 to the selection of 6 images by a panel of 3 judges.  Scores will be awar
 ded up to 10 points by each judge and cumulated for a total score out of 3
 0 points.  After the selection process is completed\, the images will be 
 discussed with input from the makers.  You may submit up to 3 images for 
 the selection process.\n\nDetails of the Black and White Print Challenge:\
 n\n\n\n 	Images must be Black and White.  No tinted or toned images will 
 be accepted.\n 	Images may be printed on any type of photographic paper.\n
  	With the exception of 16" x 20" edge to edge prints\, all prints must be
  matted using single\, white or black window mats.\n 	Mat Boards must be f
 irmly secured in order to withstand frequent handling.\n 	Print size maxim
 um 16" x 20"\; minimum size 8" x 10".\n 	All entries must be labelled on t
 he back top right corner of the backing board:\n\n\n\n\n 	Title\n 	Photogr
 apher Name\n 	Photographer Address\n 	Club Name\n\n7. Should your print be
  selected\, you will need to provide a 1400 x 1050 jpg image titled the sa
 me as your print (Title-FirstLastName-DeltaPhotoClub)\n8. Prints should be
  protected by a plastic sleeve.\nDavid Friederich\n&nbsp\;\n\n&nbsp\;\n\n&
 nbsp\;
ATTACH;FMTTYPE=image/jpeg:https://deltaphotoclub.com/wp-content/uploads/Wo
 rkshop_Images/Picture-3.jpg
CATEGORIES:Print
END:VEVENT
BEGIN:VTIMEZONE
TZID:America/Vancouver
X-LIC-LOCATION:America/Vancouver
BEGIN:DAYLIGHT
DTSTART:20190310T030000
TZOFFSETFROM:-0800
TZOFFSETTO:-0700
TZNAME:PDT
END:DAYLIGHT
END:VTIMEZONE
END:VCALENDAR