BEGIN:VCALENDAR
VERSION:2.0
PRODID:-//wp-events-plugin.com//7.2.3.1//EN
TZID:America/Vancouver
X-WR-TIMEZONE:America/Vancouver
BEGIN:VEVENT
UID:36@deltaphotoclub.com
DTSTART;TZID=America/Vancouver:20181017T191500
DTEND;TZID=America/Vancouver:20181017T213000
DTSTAMP:20180820T163809Z
URL:https://deltaphotoclub.com/events/print-competition-night/
SUMMARY:Print Night - Mini Workshop & "Open" Theme
DESCRIPTION:&emsp\;&emsp\;\n\nThis will be out first full Print Night. Them
 e will be "Open".\n\nFor the first part of the evening Francois Cleroux wi
 ll do a presentation on how to Mount and Matte Images for Club and Competi
 tions. He will show you how to create Re-Usable Mattes (Save Money and Spa
 ce) and will give hand outs on where to purchase all the necessary supplie
 s. Matting Materials will be made available for purchase at the beginning 
 of the evening.\n\nFor the print portion of the evening please bring up to
  two (2) images total. Only have one image to bring? That's fine\, bring o
 nly one or two images if you like.\n\nPlease read the 'Print Night FAQ' fo
 r information on Sizing\, Matting and Labeling of your images.
ATTACH;FMTTYPE=image/jpeg:https://deltaphotoclub.com/wp-content/uploads/20
 19/retained_2018/ViewingPrint.jpg
CATEGORIES:Print
LOCATION:Kin Village\, 5410 10th Ave\, Delta\, Canada
GEO:49.021519;-123.073647
X-APPLE-STRUCTURED-LOCATION;VALUE=URI;X-ADDRESS=5410 10th Ave\, Delta\, Can
 ada;X-APPLE-RADIUS=100;X-TITLE=Kin Village:geo:49.021519,-123.073647
END:VEVENT
BEGIN:VTIMEZONE
TZID:America/Vancouver
X-LIC-LOCATION:America/Vancouver
BEGIN:DAYLIGHT
DTSTART:20180311T030000
TZOFFSETFROM:-0800
TZOFFSETTO:-0700
TZNAME:PDT
END:DAYLIGHT
END:VTIMEZONE
END:VCALENDAR