BEGIN:VCALENDAR
VERSION:2.0
PRODID:-//wp-events-plugin.com//7.2.3.1//EN
TZID:America/Vancouver
X-WR-TIMEZONE:America/Vancouver
BEGIN:VEVENT
UID:13@deltaphotoclub.com
DTSTART;TZID=America/Vancouver:20180707T154500
DTEND;TZID=America/Vancouver:20180707T203000
DTSTAMP:20180703T141751Z
URL:https://deltaphotoclub.com/events/outings-ladner-criterium/
SUMMARY:Outings - Ladner Criterium
DESCRIPTION:Hi everyone from David Francis and David Egan.Hope you are enjo
 ying your summer\, capturing superb images destined to score high in next 
 year's competitions.  Our next outing\, the Ladner Criterium\, will featu
 re colour\, action and creative use of shutter speed\, as well as new phra
 ses such as road rash\, peloton\, slipsteam and chainring tattoo!  The fa
 st and furious Criterium\, second leg of the Tour de Delta\, spotlights la
 p after lap of high speed cornering\, straight away sprints\, and breakawa
 ys as competitors race for cash prizes and glory.\n\n              
      \n\nDetails\n\nDate: Saturday July 7\nWhere: Ladner Village.  Rac
 e start/finish is Delta street at Bridge street\nKids race:  3:45-4:30 pm
 \nMen cat 3\,4:  5:10pm\nWomen:  6:15pm\nMen pro 1\,2:  7:25pm\n\nWe wi
 ll meet at the showstage/medical tent (corner Bridge &amp\; Delta streets)
  @ 4:30pm initially\, then disperse along the route.  Best viewing areas 
 are start/finish at Delta/Bridge\, "crash corner" at Delta and Chisholm st
 reets and 48th ave from Delta to Elliott streets.  Racing ends @ 7:25pm.
   Refreshments and storytelling to follow at Riverhouse Pub\, Delta.\n\nB
 ring fast zooms\, monopods\, tripods\, extra cards/batteries\, filters
CATEGORIES:Outings
LOCATION:Ladner Village Criterium Race\, Ladner Village.  Race start/finis
 h is Delta street at Bridge street\, Ladner\, BC\, Canada
GEO:49.0909449;-123.08580089999998
X-APPLE-STRUCTURED-LOCATION;VALUE=URI;X-ADDRESS=Ladner Village.  Race star
 t/finish is Delta street at Bridge street\, Ladner\, BC\, Canada;X-APPLE-R
 ADIUS=100;X-TITLE=Ladner Village Criterium Race:geo:49.0909449,-123.085800
 89999998
END:VEVENT
BEGIN:VTIMEZONE
TZID:America/Vancouver
X-LIC-LOCATION:America/Vancouver
BEGIN:DAYLIGHT
DTSTART:20180311T030000
TZOFFSETFROM:-0800
TZOFFSETTO:-0700
TZNAME:PDT
END:DAYLIGHT
END:VTIMEZONE
END:VCALENDAR