BEGIN:VCALENDAR
VERSION:2.0
PRODID:-//wp-events-plugin.com//7.2.3.1//EN
TZID:America/Vancouver
X-WR-TIMEZONE:America/Vancouver
BEGIN:VEVENT
UID:32@deltaphotoclub.com
DTSTART;TZID=America/Vancouver:20180926T190000
DTEND;TZID=America/Vancouver:20180926T204500
DTSTAMP:20180911T185216Z
URL:https://deltaphotoclub.com/events/outing/
SUMMARY:Granville Island Photowalk
DESCRIPTION:Hi everyone from David Egan and Dave Francis \n\nWelcome back t
 o the club for the 2018/2019 season. We certainly hope you garnered some g
 reat images this past spring and summer on your travels. If not\, or if yo
 u did and want more\, we at DPC Outings hope to provide you\, through the 
 year ahead\, with opportunities in the field to grow your skill set and ma
 ture as seasoned photographers.\n\nOur first official outing of the new se
 ason will be an evening photowalk at Granville Island. It will be a chance
  to practice low light/long shutter speed technique and creatively manage 
 exposure considerations. It will also be a time to socialize\, to share kn
 owledge and to master equipment and procedure.\n\nDetails for the outing a
 re as follows:\n\nDATE: September 26\, 2018\n\nTIME: 7:00 pm\n\nPLACE: Gra
 nville Island. We will meet at the entrance to Bridge's restaurant. There 
 should be lots of nearby parking at that time\n\nGEAR: Bring wide lenses\,
  camera\, tripod/monopod\, extra batteries\, SD card\, protective sleeves/
 covers\, remote triggers. Dress warmly.\n\nTRANSPORTATION: Carpooling will
  be the best option. Parking is free after 7:00 pm. Ample parking througho
 ut the Island.\n\nREFRESHMENTS: We will finish up @ Bridges around 9:00 pm
  for tankards and tall tales.\n \nHope to see there. Novices to veterans\,
  all are welcome.\n
ATTACH;FMTTYPE=image/jpeg:https://deltaphotoclub.com/wp-content/uploads/20
 18/Outings/Granville-Island.jpg
CATEGORIES:Outings
LOCATION:Granville Island\, Granville Island\, Vancouver\, BC\, Canada
GEO:49.27115670000001;-123.13399300000003
X-APPLE-STRUCTURED-LOCATION;VALUE=URI;X-ADDRESS=Granville Island\, Vancouve
 r\, BC\, Canada;X-APPLE-RADIUS=100;X-TITLE=Granville Island:geo:49.2711567
 0000001,-123.13399300000003
END:VEVENT
BEGIN:VTIMEZONE
TZID:America/Vancouver
X-LIC-LOCATION:America/Vancouver
BEGIN:DAYLIGHT
DTSTART:20180311T030000
TZOFFSETFROM:-0800
TZOFFSETTO:-0700
TZNAME:PDT
END:DAYLIGHT
END:VTIMEZONE
END:VCALENDAR