BEGIN:VCALENDAR
VERSION:2.0
PRODID:-//wp-events-plugin.com//7.2.3.1//EN
TZID:America/Vancouver
X-WR-TIMEZONE:America/Vancouver
BEGIN:VEVENT
UID:35@deltaphotoclub.com
DTSTART;TZID=America/Vancouver:20190424T190000
DTEND;TZID=America/Vancouver:20190424T210000
DTSTAMP:20190415T153756Z
URL:https://deltaphotoclub.com/events/outing-3/
SUMMARY:Outing
DESCRIPTION:** No Meeting at Kin Village **\n\nDPC's last Wednesday night o
 uting will be a visit to the Larry Berg Flight Path Park in Richmond BC.  
 The site\, directly in line with the end of the south runway\, makes it a 
 prime location for plane spotting and creative photography.  The park also
  features walking trails and paths that mirror the markings and lights of 
 real runways.  We will be freezing action as various incoming aircraft pre
 pare to land or take off\,  as well as delving into the magic of motion bl
 ur using both long and wide lenses.  Let's get creative!\n\nDetails for th
 e outing are as follows:\n\nDATE:   April 24\, 2019\n\nTIME:   7:00 pm\n\n
 PLACE:  Larry Berg Flight Path Park.  Located at Russ Baker Way and Airpor
 t Rd (across from BCIT Aerospace Campus).  \n\nGEAR:   Bring wide angle an
 d/or long telephoto zooms\, camera\, tripod\, extra batteries & SD cards\,
  protective gear sleeves/covers and remote triggers. Dress warmly.\n\nTRAN
 SPORTATION:   Carpooling will be a good option. We will be leaving Ladner 
 Exchange at 6:00pm.  Contact us at outings@deltaphotoclub.com if you requi
 re a ride.  Parking is available on Russ Baker Way at the southbound entra
 nce to the park and in the back on Airport Rd.\n\nREFRESHMENTS:   Post out
 ing\, around 9 pm\, we will make a soft landing at the Flying Beaver Bar &
  Grill nearby for some libations and embellishments.\n\nhttp://www.yvr.ca/
 en/about-yvr/community/larry-berg-flight-path-park\n\nSee you all soon\nDa
 ve Francis\nDavid Egan\nDPC Outings Coordinators\n\n** No Meeting at Kin V
 illage **
ATTACH;FMTTYPE=image/jpeg:https://deltaphotoclub.com/wp-content/uploads/Ou
 tings_Images/Dave-Francis.jpg
CATEGORIES:Outings
END:VEVENT
BEGIN:VTIMEZONE
TZID:America/Vancouver
X-LIC-LOCATION:America/Vancouver
BEGIN:DAYLIGHT
DTSTART:20190310T030000
TZOFFSETFROM:-0800
TZOFFSETTO:-0700
TZNAME:PDT
END:DAYLIGHT
END:VTIMEZONE
END:VCALENDAR