BEGIN:VCALENDAR
VERSION:2.0
PRODID:-//wp-events-plugin.com//7.2.3.1//EN
TZID:America/Vancouver
X-WR-TIMEZONE:America/Vancouver
BEGIN:VEVENT
UID:40@deltaphotoclub.com
DTSTART;TZID=America/Vancouver:20190123T191500
DTEND;TZID=America/Vancouver:20190123T213000
DTSTAMP:20190120T002356Z
URL:https://deltaphotoclub.com/events/north-shore-photographic-challenge-s
 ubmission/
SUMMARY:North Shore Photographic Challenge submission
DESCRIPTION:&nbsp\;\n\nWe will be selecting our club selection of images fo
 r the North Shore Challenge competition this Wednesday so send in your bes
 t images before noon on Tuesday.\n\nSummary of details:\n\n 	This is an Op
 en competition so all types of images work and digital manipulation is all
 owed.  It must be your photograph and it cannot be one that went to the N
 orth Shore Competition previously.  Images used in other CAPA competition
 s are not a problem.\n 	Maximum width of 1400 pixels\, maximum height of 1
 050 pixels.\n\n\n 	Send your images to digitalcompetitions@deltaphotoclub.
 com  We will reply to your submission so if you do not get a reply by the
  end of the day (hopefully quicker than that) then check the email address
  and send it again.\n 	Label your images as follows: #-YourName-ImageTitle
 .jpg:\n 	  for example:\n1-PatriciaMcCairen-MagicBay.jpg\n2-PatriciaMcCai
 ren-StormOfTheCentury.jpg\n\n\n 	Colour Space: sRGB\n\n\n 	Each member can
  submit up to 3 images.Image selection will be done at the club meeting wi
 th input from the members as we have done in the past few years.  We will
  separate into groups to discuss images and each group will come up with a
  score.  The highest scoring 6 images from unique makers will be sent to 
 the competition.We look forward to seeing your images and to your input on
  Wednesday!\n\nAs usual we look forward to a good variety of images from m
 any of our members.\n\nIf your images are not selected by our club for thi
 s competition\, you can still enter the competition as an individual if yo
 u wish.  Note that you do not need to be a CAPA member and can use the li
 nk below for details.\n\nFor full details from the North Shore Photographi
 c Society\, here is the link: (https://www.nsps.ca/challenge/).\n\nThe fin
 al judging event hosted by the North Shore PS will be on Saturday March 2\
 , 2019 from 7 to 11 pm at the Kay Meek Theatre\, West Vancouver.  If you 
 wish to join the group from the club going to this event\, information wil
 l be provided in a future email.\n\nGeorge Pierce\n\nDetails to follow
CATEGORIES:Digital
END:VEVENT
BEGIN:VTIMEZONE
TZID:America/Vancouver
X-LIC-LOCATION:America/Vancouver
BEGIN:STANDARD
DTSTART:20181104T010000
TZOFFSETFROM:-0700
TZOFFSETTO:-0800
TZNAME:PST
END:STANDARD
END:VTIMEZONE
END:VCALENDAR