BEGIN:VCALENDAR
VERSION:2.0
PRODID:-//wp-events-plugin.com//7.2.3.1//EN
TZID:America/Vancouver
X-WR-TIMEZONE:America/Vancouver
BEGIN:VEVENT
UID:243@deltaphotoclub.com
DTSTART;TZID=America/Vancouver:20220209T193000
DTEND;TZID=America/Vancouver:20220209T213000
DTSTAMP:20220203T043947Z
URL:https://deltaphotoclub.com/events/my-pic-your-edits-challenge-february
 /
SUMMARY:My Pic Your Edits Challenge February
DESCRIPTION:We are holding the next MyPic-YourEdits  “MPYE” Challenge 
 on Wednesday\, February 9th\, 2022.\n\nThe Zoom Meeting invitation will be
  sent on Wednesday closer to meeting time.\n\nThere is a selection of 4 fu
 n images available to play with!  The images are available as JPGs to mak
 e editing easier for everyone.\n\nThe rules are very simple:\n\nUse any pr
 ogram\, filter\, tool\, preset that you want.\n\n 	The photo can be edited
 \, altered\, cropped in any way. Go explore your creative side. Have fun w
 ith your edits.\n 	Submit up to 6 edited images.\n 	Your final picture mu
 st be submitted as a JPG file.\n 	Rename your JPG file in the following f
 ormat: title-yourname.jpg\n 	Upload only the edited pictures\n\nThanks to
  all the members who submitted Pictures to the the Challenge.
ATTACH;FMTTYPE=image/jpeg:https://deltaphotoclub.com/wp-content/uploads/20
 19/mypicsyouredits/Cherry-Blossom-Ballerina-Holly-Egan-2848x3374-scaled.jp
 g
END:VEVENT
BEGIN:VTIMEZONE
TZID:America/Vancouver
X-LIC-LOCATION:America/Vancouver
BEGIN:STANDARD
DTSTART:20211107T010000
TZOFFSETFROM:-0700
TZOFFSETTO:-0800
TZNAME:PST
END:STANDARD
END:VTIMEZONE
END:VCALENDAR