BEGIN:VCALENDAR
VERSION:2.0
PRODID:-//wp-events-plugin.com//7.2.3.1//EN
TZID:America/Vancouver
X-WR-TIMEZONE:America/Vancouver
BEGIN:VEVENT
UID:242@deltaphotoclub.com
DTSTART;TZID=America/Vancouver:20220202T193000
DTEND;TZID=America/Vancouver:20220202T211500
DTSTAMP:20220119T194321Z
URL:https://deltaphotoclub.com/events/minimalist-photography-by-judy-hanco
 ck-holland/
SUMMARY:Minimalist Photography by Judy Hancock Holland
DESCRIPTION:Delta Photo Club is pleased to present “Minimalist Photograph
 y” with award winning fine art photographer and educator Judy Hancock Ho
 lland at 7:30 pm Wednesday\, February 2.\n\nJudy explains\, “Minimalist 
 photography involves seeing deeply into your subject. By allowing yourself
  to be captured by your subject\, instead of the other way around\, you ca
 n distill it down to its essence and present the image in a way that is un
 iquely yours. Join us to learn a new way to create images that convey not 
 just what you see\, but how you feel.”\n\nIf time allows Judy will also 
 discuss high and low key processing. “Portraits\, still life\, flowers\,
  minimalism… these are a few of the genres that can benefit from this ki
 nd of treatment. Join us to learn how to expose and process to create powe
 rful images in high and low key.”\n\nWeb: JHHphoto.com\nYouTube: https
 ://www.youtube.com/channel/UCjuG999_tiydDOSL14uFLTg\n\nThe zoom link for t
 he workshop will be sent in the afternoon of February 2nd.\n\nTo attend:\n
 \na) Become a member of the Delta Photo Club by filling out the membership
  form at https://deltaphotoclub.com/member-sign-up-form\n\nb) Attend as a 
 guest by sending an Interac E-Transfer of $10.00 to treasurer@deltaphotoc
 lub.com by 9 pm\, Tuesday\, February 1st.\nPlease include your name\, emai
 l address\, and Club affiliation with the transfer.\n\n\nShould you have a
 ny questions about the Photo Club or using the Zoom platform\, email pres
 ident@deltaphotoclub.com\n\n"See" you then!\nwww.deltaphotoclub.com/worksh
 ops\n\n\nDPC 1970 – 2020: 50 Years of Photography
ATTACH;FMTTYPE=image/jpeg:https://deltaphotoclub.com/wp-content/uploads/©
 Judy_Hancock_Holland_-2.jpg
CATEGORIES:Special,Workshops
END:VEVENT
BEGIN:VTIMEZONE
TZID:America/Vancouver
X-LIC-LOCATION:America/Vancouver
BEGIN:STANDARD
DTSTART:20211107T010000
TZOFFSETFROM:-0700
TZOFFSETTO:-0800
TZNAME:PST
END:STANDARD
END:VTIMEZONE
END:VCALENDAR