BEGIN:VCALENDAR
VERSION:2.0
PRODID:-//wp-events-plugin.com//7.2.3.1//EN
TZID:America/Vancouver
X-WR-TIMEZONE:America/Vancouver
BEGIN:VEVENT
UID:8@deltaphotoclub.com
DTSTART;TZID=America/Vancouver:20180719T190000
DTEND;TZID=America/Vancouver:20180719T220000
DTSTAMP:20180720T021043Z
URL:https://deltaphotoclub.com/events/july-drinks-on-the-deck/
SUMMARY:July Drinks on the Deck
DESCRIPTION:http://secure249.inmotionhosting.com/~deltap7/our-clubs-capa-fa
 ll-print-competition-submission/\n\n&nbsp\;\n\nJoin us for Drinks on the D
 eck at Pat Quinns Patio @ 7PM.\nGreat way to connect and socialize with cl
 ub members\, hear what's going on and enjoy a warm summer night with good 
 food and friends!
CATEGORIES:Outings
END:VEVENT
BEGIN:VTIMEZONE
TZID:America/Vancouver
X-LIC-LOCATION:America/Vancouver
BEGIN:DAYLIGHT
DTSTART:20180311T030000
TZOFFSETFROM:-0800
TZOFFSETTO:-0700
TZNAME:PDT
END:DAYLIGHT
END:VTIMEZONE
END:VCALENDAR