BEGIN:VCALENDAR
VERSION:2.0
PRODID:-//wp-events-plugin.com//7.2.3.1//EN
TZID:America/Vancouver
X-WR-TIMEZONE:America/Vancouver
BEGIN:VEVENT
UID:31@deltaphotoclub.com
DTSTART;TZID=America/Vancouver:20190508T193000
DTEND;TZID=America/Vancouver:20190508T211500
DTSTAMP:20180729T210644Z
URL:https://deltaphotoclub.com/events/digital-night-8/
SUMMARY:Digital Night
DESCRIPTION:
CATEGORIES:Digital
LOCATION:Kin Village\, 5410 10th Ave\, Delta\, Canada
GEO:49.021519;-123.073647
X-APPLE-STRUCTURED-LOCATION;VALUE=URI;X-ADDRESS=5410 10th Ave\, Delta\, Can
 ada;X-APPLE-RADIUS=100;X-TITLE=Kin Village:geo:49.021519,-123.073647
END:VEVENT
BEGIN:VTIMEZONE
TZID:America/Vancouver
X-LIC-LOCATION:America/Vancouver
BEGIN:DAYLIGHT
DTSTART:20190310T030000
TZOFFSETFROM:-0800
TZOFFSETTO:-0700
TZNAME:PDT
END:DAYLIGHT
END:VTIMEZONE
END:VCALENDAR