BEGIN:VCALENDAR
VERSION:2.0
PRODID:-//wp-events-plugin.com//7.2.3.1//EN
TZID:America/Vancouver
X-WR-TIMEZONE:America/Vancouver
BEGIN:VEVENT
UID:30@deltaphotoclub.com
DTSTART;TZID=America/Vancouver:20190410T193000
DTEND;TZID=America/Vancouver:20190410T211500
DTSTAMP:20190405T171810Z
URL:https://deltaphotoclub.com/events/digital-night-7/
SUMMARY:Digital Night
DESCRIPTION:This month's themes are set to challenge and inspire you. There
  are three themes: minimalism\, geometric or repeating shapes and lastly S
 pring. The snow has left\, the sun is out and the Earth is blooming. Let's
  look through the lens for something a little different.\n\nBelow are the 
 criteria for this month. Have fun and send lots of interesting images..\n\
 n1. Minimalism in Photography\nSimplicity is aesthetically pleasing\; less
  distractions lead the eye to the focal point. Find a center of focus with
  little distraction.\n\n2. Geometric and Repeating Shapes\nThe other side 
 of simple could be repetition which is interesting as well. Then there is 
 the unusual geometric shapes - which are defined as consisting of shapes s
 uch as squares\, triangles\, or rectangles.\n\n3. Spring\nThere are lots o
 f trees and flowers blooming. Let's show off Spring's beauty.\n\nNote: Eac
 h member can submit up to 3 images for all categories..\n\nMembers can als
 o send short slideshows or videos.  We will show all the categories\, and 
 end with videos\, as time permits.\n\nRemember\, for the best display qual
 ity\, images should be resized to a maximum width of 1920 pixels and a max
 imum height of 1080 pixels\, This may not be possible with cell/tablet ima
 ges so please send us the largest image possible\, up to the limits indica
 ted above.\n\nMinimal\n-   Minimal-LastFirst-1-ImageTitle\nUse 2 for 2nd p
 hoto etc.\n\nGeometric\n-   Geometric-LastFirst-1-ImageTitle\nUse 2 for 2n
 d photo etc.\n\nSpring\n-   Spring-LastFirst-1-ImageTitle\nUse 2 for 2nd p
 hoto etc.\n\nVideos/Slideshows\n-   Vid_YourName_VideoTitle\n-   Slide_You
 rName_SlideshowTitle\n\nImages/videos/slideshows should be submitted to di
 gitalnight@deltaphotoclub.com by 9:00 PM on Tuesday April 9\, 2019.\n\nTha
 nks for submitting images!\n\nHolly
CATEGORIES:Digital
END:VEVENT
BEGIN:VTIMEZONE
TZID:America/Vancouver
X-LIC-LOCATION:America/Vancouver
BEGIN:DAYLIGHT
DTSTART:20190310T030000
TZOFFSETFROM:-0800
TZOFFSETTO:-0700
TZNAME:PDT
END:DAYLIGHT
END:VTIMEZONE
END:VCALENDAR