BEGIN:VCALENDAR
VERSION:2.0
PRODID:-//wp-events-plugin.com//7.2.3.1//EN
TZID:America/Vancouver
X-WR-TIMEZONE:America/Vancouver
BEGIN:VEVENT
UID:26@deltaphotoclub.com
DTSTART;TZID=America/Vancouver:20181114T191500
DTEND;TZID=America/Vancouver:20181114T213000
DTSTAMP:20181109T211301Z
URL:https://deltaphotoclub.com/events/digital-night-3/
SUMMARY:Digital Night
DESCRIPTION:This digital night we will also be asking members their views o
 n the display of digital image submissions on the club's website. We are a
 ble to post submitted images on the main website for all to see\; or insid
 e a member's only section that is password protected. Come out and let us 
 know your thoughts.\n\nThe themes for this month reflect seasonal occasion
 s.\n\n1. Thanksgiving and Halloween Celebration\nAll the celebrations of t
 he season\n\n2. Remembrance\nThis is a time of year when we remember the m
 en and women who served in the nation's defense. Poppies have become a sym
 bol of remembrance.\n\n3. Open\nThere is an upcoming in-house Digital comp
 etition that the club will be hosting. The theme is "Open". Get feedback f
 rom club members on how to improve your image.\n\nEach member can submit u
 p to 3 images in each category.\n\nMembers can also send short slideshows 
 or videos.  We will try to show everyone's first submissions\, then 2nd & 
 3rd as time permits.\n \nRemember\, for the best display quality\, images 
 should be resized to a maximum width of 1920 pixels and a maximum height o
 f 1080 pixels. This may not be possible with cell/tablet images so please 
 send us the largest image possible\, up to the limits indicated above.\n\n
 Celebration\n-  Celebration_LastFirst_1_ImageTitle\n      Use 2 and 3 for 
 2nd and 3rd photos\n\nRemembrance       \n-   Remembrance_LastFirst_1_Imag
 eTitle\n        Use 2 and 3 for 2nd and 3rd photos\n\nOpen\n-  Open_LastFi
 rst_1_ImageTitle\n      Use 2 and 3 for 2nd and 3rd photo groupings\n\nVid
 eos/Slideshows\n-   Vid_YourName_VideoTitle\n-   Slide_YourName_SlideshowT
 itle\n\nImages/videos/slideshows should be submitted to digitalnight@delta
 photoclub.com by 9:00 PM on Tuesday November 13\, 2018.\n\nSee you there!\
 n\nHolly
CATEGORIES:Digital
LOCATION:Kin Village\, 5410 10th Ave\, Delta\, Canada
GEO:49.021519;-123.073647
X-APPLE-STRUCTURED-LOCATION;VALUE=URI;X-ADDRESS=5410 10th Ave\, Delta\, Can
 ada;X-APPLE-RADIUS=100;X-TITLE=Kin Village:geo:49.021519,-123.073647
END:VEVENT
BEGIN:VTIMEZONE
TZID:America/Vancouver
X-LIC-LOCATION:America/Vancouver
BEGIN:STANDARD
DTSTART:20181104T010000
TZOFFSETFROM:-0700
TZOFFSETTO:-0800
TZNAME:PST
END:STANDARD
END:VTIMEZONE
END:VCALENDAR