BEGIN:VCALENDAR
VERSION:2.0
PRODID:-//wp-events-plugin.com//7.2.3.1//EN
TZID:America/Vancouver
X-WR-TIMEZONE:America/Vancouver
BEGIN:VEVENT
UID:41@deltaphotoclub.com
DTSTART;TZID=America/Vancouver:20190417T191500
DTEND;TZID=America/Vancouver:20190417T210000
DTSTAMP:20190214T224323Z
URL:https://deltaphotoclub.com/events/crescent-beach-bw-submission/
SUMMARY:Print  Night
DESCRIPTION:\n\n\n\nDetails to follow\n\n\n\n
CATEGORIES:Print
END:VEVENT
BEGIN:VTIMEZONE
TZID:America/Vancouver
X-LIC-LOCATION:America/Vancouver
BEGIN:DAYLIGHT
DTSTART:20190310T030000
TZOFFSETFROM:-0800
TZOFFSETTO:-0700
TZNAME:PDT
END:DAYLIGHT
END:VTIMEZONE
END:VCALENDAR