BEGIN:VCALENDAR
VERSION:2.0
PRODID:-//wp-events-plugin.com//7.2.3.1//EN
TZID:America/Vancouver
X-WR-TIMEZONE:America/Vancouver
BEGIN:VEVENT
UID:14@deltaphotoclub.com
DTSTART;TZID=America/Vancouver:20180905T191500
DTEND;TZID=America/Vancouver:20180905T213000
DTSTAMP:20180902T164509Z
URL:https://deltaphotoclub.com/events/2018-19-first-club-meeting-for/
SUMMARY:2018-19 First Club meeting
DESCRIPTION:The Delta Photo Club is proud to kick off our 48th year on Wedn
 esday\, September 5\, 2018 as we welcome returning members and new guests 
 to the first meeting of the season.\n\nMEMBER INFO During our first meetin
 g of the season\, we will give an overview of our plans for the year and a
 sk members for their input from the group. Connect with old friends and me
 et new ones with a common interest in photography. Learn more\, share more
 \, practice more and improve. New and Renewal Membership Dues are collecte
 d at the Sept 5th meeting for the 2018 – 2019 year. Please bring $70\, c
 ash or cheque.\n \nMembers are encouraged to: • Bring a re-usable bevera
 ge mug • Wear your DPC Name Tag  • Bring 3 of your favourite prints to
  display at the first meeting • Volunteer for the executive board • In
 troduce yourself to new guests  • Invite people interested in photograph
 y to attend a DPC meeting as a guest\n \nGUEST INFO Delta Photo Club (DPC)
  meets Wednesday nights for regular meetings and guest speaker workshops. 
 We also schedule a variety of local and overnight photography field trips 
 to a variety of locations through out the year. We welcome anyone interest
 ed in photography to come to a meeting for free to meet fellow photographe
 rs who share a passion for the photographic arts and enjoy complimentary r
 efreshment while learning more about our club. This is a perfect time for 
 new people to decide if they want to become full time members. Guests can 
 attend 2 meetings before deciding whether to join or not.
CATEGORIES:Print,Special
LOCATION:Kin Village\, 5410 10th Ave\, Delta\, Canada
GEO:49.021519;-123.073647
X-APPLE-STRUCTURED-LOCATION;VALUE=URI;X-ADDRESS=5410 10th Ave\, Delta\, Can
 ada;X-APPLE-RADIUS=100;X-TITLE=Kin Village:geo:49.021519,-123.073647
END:VEVENT
BEGIN:VTIMEZONE
TZID:America/Vancouver
X-LIC-LOCATION:America/Vancouver
BEGIN:DAYLIGHT
DTSTART:20180311T030000
TZOFFSETFROM:-0800
TZOFFSETTO:-0700
TZNAME:PDT
END:DAYLIGHT
END:VTIMEZONE
END:VCALENDAR